BEGIN:VCALENDAR
VERSION:2.0
PRODID:-//Ristūnų sportas - ECPv6.15.20//NONSGML v1.0//EN
CALSCALE:GREGORIAN
METHOD:PUBLISH
X-ORIGINAL-URL:https://ristunusportas.lt
X-WR-CALDESC:Ristūnų sportas renginiai
REFRESH-INTERVAL;VALUE=DURATION:PT1H
X-Robots-Tag:noindex
X-PUBLISHED-TTL:PT1H
BEGIN:VTIMEZONE
TZID:Europe/Vilnius
BEGIN:DAYLIGHT
TZOFFSETFROM:+0200
TZOFFSETTO:+0300
TZNAME:EEST
DTSTART:20230326T010000
END:DAYLIGHT
BEGIN:STANDARD
TZOFFSETFROM:+0300
TZOFFSETTO:+0200
TZNAME:EET
DTSTART:20231029T010000
END:STANDARD
BEGIN:DAYLIGHT
TZOFFSETFROM:+0200
TZOFFSETTO:+0300
TZNAME:EEST
DTSTART:20240331T010000
END:DAYLIGHT
BEGIN:STANDARD
TZOFFSETFROM:+0300
TZOFFSETTO:+0200
TZNAME:EET
DTSTART:20241027T010000
END:STANDARD
BEGIN:DAYLIGHT
TZOFFSETFROM:+0200
TZOFFSETTO:+0300
TZNAME:EEST
DTSTART:20250330T010000
END:DAYLIGHT
BEGIN:STANDARD
TZOFFSETFROM:+0300
TZOFFSETTO:+0200
TZNAME:EET
DTSTART:20251026T010000
END:STANDARD
END:VTIMEZONE
BEGIN:VEVENT
DTSTART;TZID=Europe/Vilnius:20240608T120000
DTEND;TZID=Europe/Vilnius:20240608T150000
DTSTAMP:20260421T155128
CREATED:20240603T080456Z
LAST-MODIFIED:20240609T154156Z
UID:2100-1717848000-1717858800@ristunusportas.lt
SUMMARY:Ristūnų žirgų lenktynės - Birželio 8 d.
DESCRIPTION:Gyvename lenktynių tempu ir ruošiamės naujam ristūnų žirgų startui! Susitikime antrąjį birželio šeštadienį – 8 dieną – Širvintų hipodrome. O jei jau diena paženklinta aštuonetu 8️⃣ – skaičiumi\, kuris siejamas su sėkme ir turtais\, – atvykite aštuoniese 🙂 Vietos hipodrome užteks visiems jūsų šeimos nariams ir draugams!!! \nIki susitikimo! www.ristunusportas.lt \nOrganizavimo sąlygos: \nVieta: Širvintų hipodromas\nData: 2024 m. birželio  8 d. (šeštadienis)\nPrizinis fondas: neskiriamas. SVARBU: organizatorius pasilieka teisę  įvertinęs varžybų  organizavimo sąnaudas\, ristūnų lenktynių dalyviams kompensuoti logistikos išlaidas. \nŽirgų pastatymo vietos: ŽŪB Žirgynas arklidės – atsiskaitymas už gardus su savininku individualiai.\nLenktynių pradžia 12:00 su pertraukomis tarp važiavimų kas 30 min.\nVažiavimai: Kvalifikaciniai važiavimai vyks po pagrindinių važiavimų.\nApdovanojimai: lenktynių metu nebus vykdomi. \nParaiškos teikiamos: iki trečiadienio birželio 5 d. 18:00 val. \n \nREITINGAI po 20240525 \nSTARTO protokolas \nPROGRAMA \nREZULTATAI varžybų protokolas \n 
URL:https://ristunusportas.lt/renginiai/ristunu-zirgu-lenktynes-birzelio-8-d/
LOCATION:Širvinų hipodromas\, Ristūnų g. 6\, Širvintos\, 19104\, Lietuva
ATTACH;FMTTYPE=image/jpeg:https://ristunusportas.lt/wp-content/uploads/2024/06/RLZL_Birzelio8_socmedijai_1200x628.jpg
ORGANIZER;CN="Lenktynini%C5%B3 %C5%BEirg%C5%B3 lyga":MAILTO:info@ristunusportas.lt
END:VEVENT
BEGIN:VEVENT
DTSTART;TZID=Europe/Vilnius:20240622T120000
DTEND;TZID=Europe/Vilnius:20240622T150000
DTSTAMP:20260421T155128
CREATED:20240614T035858Z
LAST-MODIFIED:20240625T122644Z
UID:2181-1719057600-1719068400@ristunusportas.lt
SUMMARY:Ristūnų žirgų lenktynės 06.22
DESCRIPTION:Ristūnai žirgai laukia Joninių! Ir pasitiks jas savaip – lenktyniaudami! \nSusitikime birželio 22 d. Širvintų hipodrome. \nPradžia – 12 val. Kuo didesni būriai – tuo linksmesnė įžanga į Jonines😊 Lenktynės tinka visiems: vaikams\, draugams\, bičiuliams\, kolegoms\, kaimynams\, svečiams iš kitų šalių. Griebkite pikniko krepšius ir palaikykite azartiškuosius ir greituosius ristūnus žirgus! Kas žino\, kokių staigmenų išvysime😜. \nRistūnai žirgai visada nustebina! \nREITINGAI po 20240611 \nSTARTO protokolas SRV 20240622 \nPROGRAMA \nREZULTATAI varžybų protokolas
URL:https://ristunusportas.lt/renginiai/ristunu-zirgu-lenktynes-06-22/
LOCATION:Širvinų hipodromas\, Ristūnų g. 6\, Širvintos\, 19104\, Lietuva
ATTACH;FMTTYPE=image/jpeg:https://ristunusportas.lt/wp-content/uploads/2024/06/image.jpeg
ORGANIZER;CN="Lenktynini%C5%B3 %C5%BEirg%C5%B3 lyga":MAILTO:info@ristunusportas.lt
END:VEVENT
BEGIN:VEVENT
DTSTART;TZID=Europe/Vilnius:20240628T080000
DTEND;TZID=Europe/Vilnius:20240628T080000
DTSTAMP:20260421T155128
CREATED:20240626T031535Z
LAST-MODIFIED:20240629T064828Z
UID:2268-1719561600-1719561600@ristunusportas.lt
SUMMARY:Ristūnų žirgų kvalifikaciniai važiavimai
DESCRIPTION:REZULTATAI varžybų protokolas
URL:https://ristunusportas.lt/renginiai/ristunu-zirgu-kvalifikaciniai-vaziavimai/
LOCATION:Širvinų hipodromas\, Ristūnų g. 6\, Širvintos\, 19104\, Lietuva
ATTACH;FMTTYPE=image/jpeg:https://ristunusportas.lt/wp-content/uploads/2024/06/HH.jpg
ORGANIZER;CN="Lenktynini%C5%B3 %C5%BEirg%C5%B3 lyga":MAILTO:info@ristunusportas.lt
END:VEVENT
END:VCALENDAR