BEGIN:VCALENDAR
VERSION:2.0
PRODID:-//Ristūnų sportas - ECPv6.15.20//NONSGML v1.0//EN
CALSCALE:GREGORIAN
METHOD:PUBLISH
X-ORIGINAL-URL:https://ristunusportas.lt
X-WR-CALDESC:Ristūnų sportas renginiai
REFRESH-INTERVAL;VALUE=DURATION:PT1H
X-Robots-Tag:noindex
X-PUBLISHED-TTL:PT1H
BEGIN:VTIMEZONE
TZID:Europe/Vilnius
BEGIN:DAYLIGHT
TZOFFSETFROM:+0200
TZOFFSETTO:+0300
TZNAME:EEST
DTSTART:20220327T010000
END:DAYLIGHT
BEGIN:STANDARD
TZOFFSETFROM:+0300
TZOFFSETTO:+0200
TZNAME:EET
DTSTART:20221030T010000
END:STANDARD
BEGIN:DAYLIGHT
TZOFFSETFROM:+0200
TZOFFSETTO:+0300
TZNAME:EEST
DTSTART:20230326T010000
END:DAYLIGHT
BEGIN:STANDARD
TZOFFSETFROM:+0300
TZOFFSETTO:+0200
TZNAME:EET
DTSTART:20231029T010000
END:STANDARD
BEGIN:DAYLIGHT
TZOFFSETFROM:+0200
TZOFFSETTO:+0300
TZNAME:EEST
DTSTART:20240331T010000
END:DAYLIGHT
BEGIN:STANDARD
TZOFFSETFROM:+0300
TZOFFSETTO:+0200
TZNAME:EET
DTSTART:20241027T010000
END:STANDARD
END:VTIMEZONE
BEGIN:VEVENT
DTSTART;TZID=Europe/Vilnius:20230603T120000
DTEND;TZID=Europe/Vilnius:20230603T150000
DTSTAMP:20260422T105022
CREATED:20230323T101435Z
LAST-MODIFIED:20230911T052853Z
UID:59-1685793600-1685804400@ristunusportas.lt
SUMMARY:Ristūnų žirgų lenktynės V etapas
DESCRIPTION:
URL:https://ristunusportas.lt/renginiai/ristunu-zirgu-lenktynes-v-etapas/
LOCATION:Širvinų hipodromas\, Ristūnų g. 6\, Širvintos\, 19104\, Lietuva
ATTACH;FMTTYPE=image/jpeg:https://ristunusportas.lt/wp-content/uploads/2023/03/events-04v1.jpg
ORGANIZER;CN="Lenktynini%C5%B3 %C5%BEirg%C5%B3 lyga":MAILTO:info@ristunusportas.lt
END:VEVENT
BEGIN:VEVENT
DTSTART;TZID=Europe/Vilnius:20230624T120000
DTEND;TZID=Europe/Vilnius:20230624T150000
DTSTAMP:20260422T105022
CREATED:20230323T102633Z
LAST-MODIFIED:20230720T175240Z
UID:65-1687608000-1687618800@ristunusportas.lt
SUMMARY:Ristūnų žirgų lenktynės VI etapas
DESCRIPTION:
URL:https://ristunusportas.lt/renginiai/ristunu-zirgu-lenktynes-baltic-cup23-vi-etapas/
LOCATION:Širvinų hipodromas\, Ristūnų g. 6\, Širvintos\, 19104\, Lietuva
ATTACH;FMTTYPE=image/jpeg:https://ristunusportas.lt/wp-content/uploads/2023/03/355478973_730718252185601_3093426020566877560_n.jpg
ORGANIZER;CN="Lenktynini%C5%B3 %C5%BEirg%C5%B3 lyga":MAILTO:info@ristunusportas.lt
END:VEVENT
END:VCALENDAR