BEGIN:VCALENDAR
VERSION:2.0
PRODID:-//Ristūnų sportas - ECPv6.15.20//NONSGML v1.0//EN
CALSCALE:GREGORIAN
METHOD:PUBLISH
X-WR-CALNAME:Ristūnų sportas
X-ORIGINAL-URL:https://ristunusportas.lt
X-WR-CALDESC:Ristūnų sportas renginiai
REFRESH-INTERVAL;VALUE=DURATION:PT1H
X-Robots-Tag:noindex
X-PUBLISHED-TTL:PT1H
BEGIN:VTIMEZONE
TZID:Europe/Vilnius
BEGIN:DAYLIGHT
TZOFFSETFROM:+0200
TZOFFSETTO:+0300
TZNAME:EEST
DTSTART:20230326T010000
END:DAYLIGHT
BEGIN:STANDARD
TZOFFSETFROM:+0300
TZOFFSETTO:+0200
TZNAME:EET
DTSTART:20231029T010000
END:STANDARD
BEGIN:DAYLIGHT
TZOFFSETFROM:+0200
TZOFFSETTO:+0300
TZNAME:EEST
DTSTART:20240331T010000
END:DAYLIGHT
BEGIN:STANDARD
TZOFFSETFROM:+0300
TZOFFSETTO:+0200
TZNAME:EET
DTSTART:20241027T010000
END:STANDARD
BEGIN:DAYLIGHT
TZOFFSETFROM:+0200
TZOFFSETTO:+0300
TZNAME:EEST
DTSTART:20250330T010000
END:DAYLIGHT
BEGIN:STANDARD
TZOFFSETFROM:+0300
TZOFFSETTO:+0200
TZNAME:EET
DTSTART:20251026T010000
END:STANDARD
END:VTIMEZONE
BEGIN:VEVENT
DTSTART;TZID=Europe/Vilnius:20240622T120000
DTEND;TZID=Europe/Vilnius:20240622T150000
DTSTAMP:20260421T172752
CREATED:20240614T035858Z
LAST-MODIFIED:20240625T122644Z
UID:2181-1719057600-1719068400@ristunusportas.lt
SUMMARY:Ristūnų žirgų lenktynės 06.22
DESCRIPTION:Ristūnai žirgai laukia Joninių! Ir pasitiks jas savaip – lenktyniaudami! \nSusitikime birželio 22 d. Širvintų hipodrome. \nPradžia – 12 val. Kuo didesni būriai – tuo linksmesnė įžanga į Jonines😊 Lenktynės tinka visiems: vaikams\, draugams\, bičiuliams\, kolegoms\, kaimynams\, svečiams iš kitų šalių. Griebkite pikniko krepšius ir palaikykite azartiškuosius ir greituosius ristūnus žirgus! Kas žino\, kokių staigmenų išvysime😜. \nRistūnai žirgai visada nustebina! \nREITINGAI po 20240611 \nSTARTO protokolas SRV 20240622 \nPROGRAMA \nREZULTATAI varžybų protokolas
URL:https://ristunusportas.lt/renginiai/ristunu-zirgu-lenktynes-06-22/
LOCATION:Širvinų hipodromas\, Ristūnų g. 6\, Širvintos\, 19104\, Lietuva
ATTACH;FMTTYPE=image/jpeg:https://ristunusportas.lt/wp-content/uploads/2024/06/image.jpeg
ORGANIZER;CN="Lenktynini%C5%B3 %C5%BEirg%C5%B3 lyga":MAILTO:info@ristunusportas.lt
END:VEVENT
END:VCALENDAR