BEGIN:VCALENDAR
VERSION:2.0
PRODID:-//Ristūnų sportas - ECPv6.15.20//NONSGML v1.0//EN
CALSCALE:GREGORIAN
METHOD:PUBLISH
X-ORIGINAL-URL:https://ristunusportas.lt
X-WR-CALDESC:Ristūnų sportas renginiai
REFRESH-INTERVAL;VALUE=DURATION:PT1H
X-Robots-Tag:noindex
X-PUBLISHED-TTL:PT1H
BEGIN:VTIMEZONE
TZID:Europe/Vilnius
BEGIN:DAYLIGHT
TZOFFSETFROM:+0200
TZOFFSETTO:+0300
TZNAME:EEST
DTSTART:20220327T010000
END:DAYLIGHT
BEGIN:STANDARD
TZOFFSETFROM:+0300
TZOFFSETTO:+0200
TZNAME:EET
DTSTART:20221030T010000
END:STANDARD
BEGIN:DAYLIGHT
TZOFFSETFROM:+0200
TZOFFSETTO:+0300
TZNAME:EEST
DTSTART:20230326T010000
END:DAYLIGHT
BEGIN:STANDARD
TZOFFSETFROM:+0300
TZOFFSETTO:+0200
TZNAME:EET
DTSTART:20231029T010000
END:STANDARD
BEGIN:DAYLIGHT
TZOFFSETFROM:+0200
TZOFFSETTO:+0300
TZNAME:EEST
DTSTART:20240331T010000
END:DAYLIGHT
BEGIN:STANDARD
TZOFFSETFROM:+0300
TZOFFSETTO:+0200
TZNAME:EET
DTSTART:20241027T010000
END:STANDARD
END:VTIMEZONE
BEGIN:VEVENT
DTSTART;TZID=Europe/Vilnius:20231021T123000
DTEND;TZID=Europe/Vilnius:20231021T170000
DTSTAMP:20260422T021815
CREATED:20231014T150242Z
LAST-MODIFIED:20231018T080715Z
UID:1569-1697891400-1697907600@ristunusportas.lt
SUMMARY:Pasižymėkite datą arba save the date! Spalio 21 d. stebėkite tiesioginę ristūnų žirgų Baltijos taurės lenktynių transliaciją
DESCRIPTION:Spalio 21 d.\, šeštadienį\, Tuulos hipodrome vyks Estijos\, Latvijos ir Lietuvos ristūnų žirgų varžybos Baltijos taurei laimėti. Kviečiame palaikyti Lietuvos duetų pasirodymą ir nuo 13 val. stebėti tiesioginę lenktynių transliaciją. \nRespublikinė lenktyninių žirgų lyga tikisi\, kad Lietuvos ristūnai ir šiais metais pasirodys puikiai. Apie Lietuvai atstovausiančius duetus paskelbsime netrukus. \nBaltijos taurės lenktynės populiarina Estijos\, Latvijos ir Lietuvos ristūnų žirgų sportą\, šiose šalyse veisiamų ir auginamų ristūnų žirgų rezultatus\, puoselėja šių žirgų lenktynių tradiciją.
URL:https://ristunusportas.lt/renginiai/baltijos-taures-lenktyniu-transliacija/
ATTACH;FMTTYPE=image/jpeg:https://ristunusportas.lt/wp-content/uploads/2023/10/KV-01-copy.jpg
END:VEVENT
END:VCALENDAR