BEGIN:VCALENDAR
VERSION:2.0
PRODID:-//Ristūnų sportas - ECPv6.15.20//NONSGML v1.0//EN
CALSCALE:GREGORIAN
METHOD:PUBLISH
X-ORIGINAL-URL:https://ristunusportas.lt
X-WR-CALDESC:Ristūnų sportas renginiai
REFRESH-INTERVAL;VALUE=DURATION:PT1H
X-Robots-Tag:noindex
X-PUBLISHED-TTL:PT1H
BEGIN:VTIMEZONE
TZID:Europe/Vilnius
BEGIN:DAYLIGHT
TZOFFSETFROM:+0200
TZOFFSETTO:+0300
TZNAME:EEST
DTSTART:20220327T010000
END:DAYLIGHT
BEGIN:STANDARD
TZOFFSETFROM:+0300
TZOFFSETTO:+0200
TZNAME:EET
DTSTART:20221030T010000
END:STANDARD
BEGIN:DAYLIGHT
TZOFFSETFROM:+0200
TZOFFSETTO:+0300
TZNAME:EEST
DTSTART:20230326T010000
END:DAYLIGHT
BEGIN:STANDARD
TZOFFSETFROM:+0300
TZOFFSETTO:+0200
TZNAME:EET
DTSTART:20231029T010000
END:STANDARD
BEGIN:DAYLIGHT
TZOFFSETFROM:+0200
TZOFFSETTO:+0300
TZNAME:EEST
DTSTART:20240331T010000
END:DAYLIGHT
BEGIN:STANDARD
TZOFFSETFROM:+0300
TZOFFSETTO:+0200
TZNAME:EET
DTSTART:20241027T010000
END:STANDARD
END:VTIMEZONE
BEGIN:VEVENT
DTSTART;TZID=Europe/Vilnius:20230826T120000
DTEND;TZID=Europe/Vilnius:20230826T150000
DTSTAMP:20260422T091827
CREATED:20230719T145448Z
LAST-MODIFIED:20230828T173942Z
UID:1183-1693051200-1693062000@ristunusportas.lt
SUMMARY:Derby ir Kriterium 2023 PUSFINALIS
DESCRIPTION:Geriausi trimečiai ristūnai žirgai\, dalyvavę atrankos varžybose viso sezono metu\, varžosi KRITERIUM finaliniame važiavime. DERBY finalinėse lenktynėse dalyvauja viso sezono atrankų metu geriausius rezultatus demonstravę keturmečiai ristūnai žirgai.
URL:https://ristunusportas.lt/renginiai/derby-ir-kriterium-2023-pusfinalis/
LOCATION:Utenos hipodromas\, Užpalių g. 97\, Utena\, 28215
ATTACH;FMTTYPE=image/jpeg:https://ristunusportas.lt/wp-content/uploads/2023/07/20230717-RLZL-pusfinalio-lenktynes-cover.jpeg
ORGANIZER;CN="Lenktynini%C5%B3 %C5%BEirg%C5%B3 lyga":MAILTO:info@ristunusportas.lt
END:VEVENT
END:VCALENDAR